BEGIN:VCALENDAR
VERSION:2.0
PRODID:-//Library Market//iCal Export//EN
BEGIN:VEVENT
SUMMARY:Paws for Reading
UID:28854
DTSTAMP:20260423T224600Z
DTSTART:20260503T180000Z
DTEND:20260503T190000Z
LOCATION:Hon. Karen B Johnson Main Library, 99 Clinton Street, Schenectady
 , NY 12305, United States
ROOM: KBJ Slater Room
DESCRIPTION:Come read a book with Therapy Dog Cooper!
URL:https://schenectady.librarycalendar.com/event/paws-reading-28854
END:VEVENT
END:VCALENDAR
