BEGIN:VCALENDAR
VERSION:2.0
PRODID:-//Library Market//iCal Export//EN
BEGIN:VEVENT
SUMMARY:Books &amp; Bubbles Festival
UID:28828
DTSTAMP:20260423T224600Z
DTSTART:20260509T180000Z
DTEND:20260509T193000Z
LOCATION:Collins Park, Schonowee Ave, Scotia, NY 12302, United States
ROOM: Books &amp; Bubbles Festival
DESCRIPTION:Celebrate Children&#039;s Book Week with a festival of books, 
 bubbles, and fun for families with children ages 2 and up. Create bubble p
 aintings, blow bubbles, and enjoy free books, bubbles and refreshments.Fes
 tival is scheduled for Collins Park next to the Scotia Branch Library.Rain
  site is Our Lutheran Redeemer 103 S Reynolds St. Scotia. #CBW
URL:https://schenectady.librarycalendar.com/event/books-bubbles-fest-28828
END:VEVENT
END:VCALENDAR
