BEGIN:VCALENDAR
VERSION:2.0
PRODID:-//Library Market//iCal Export//EN
BEGIN:VEVENT
SUMMARY:Watercolors with ArtTEAsta
UID:27729
DTSTAMP:20260426T034600Z
DTSTART:20260701T190000Z
DTEND:20260701T200000Z
LOCATION:133 Bull Street, Delanson, NY 12053, United States
ROOM: Quaker Street Meeting Area
DESCRIPTION:Create a watercolors masterpiece with Julie from ArtTEAsta. Th
 is is a beginners class for kids in grades K - 5.
URL:https://schenectady.librarycalendar.com/event/watercolors-artteasta-27
 729
END:VEVENT
END:VCALENDAR
