BEGIN:VCALENDAR
VERSION:2.0
PRODID:-//Library Market//iCal Export//EN
BEGIN:VEVENT
SUMMARY:Lion Dance Story Time
UID:26884
DTSTAMP:20260422T050100Z
DTSTART:20260530T143000Z
DTEND:20260530T160000Z
LOCATION:Hon. Karen B Johnson Main Library, 99 Clinton Street, Schenectady
 , NY 12305, United States
ROOM: KBJ McChesney Room
DESCRIPTION:Join us for a special story time in celebration of Asian Ameri
 can and Pacific Islander Heritage Month. There will be a special guest per
 formance of a lion dance by The Spirited Lions followed by a craft. Please
  join us in celebrating! 
URL:https://schenectady.librarycalendar.com/event/lion-dance-story-time-26
 884
END:VEVENT
END:VCALENDAR
